BEGIN:VCALENDAR
VERSION:2.0
PRODID:-//wp-events-plugin.com//7.1.7//EN
BEGIN:VEVENT
UID:1@mjrossmusic.com
DTSTART;VALUE=DATE:20230920
DTEND;VALUE=DATE:20230926
DTSTAMP:20230513T183047Z
URL:https://mjrossmusic.com/events/spring-indie-tour/
SUMMARY:To Be Announced
DESCRIPTION:
ATTACH;FMTTYPE=image/jpeg:https://mjrossmusic.com/wp-content/uploads/2023/
 03/con2.jpg
LOCATION:2024\, Marvel Arena\, Cedar Creek\, 2024\, Queensland\, Australia
X-APPLE-STRUCTURED-LOCATION;VALUE=URI;X-ADDRESS=Marvel Arena\, Cedar Creek\
 , 2024\, Queensland\, Australia;X-APPLE-RADIUS=100;X-TITLE=2024:geo:0,0
END:VEVENT
END:VCALENDAR