BEGIN:VCALENDAR
VERSION:2.0
PRODID:-//wp-events-plugin.com//7.1.7//EN
BEGIN:VEVENT
UID:7@mjrossmusic.com
DTSTART;VALUE=DATE:20240510
DTEND;VALUE=DATE:20240519
DTSTAMP:20230513T183149Z
URL:https://mjrossmusic.com/events/to-be-announced-4/
SUMMARY:To Be Announced
DESCRIPTION:
ATTACH;FMTTYPE=image/jpeg:https://mjrossmusic.com/wp-content/uploads/2023/
 03/con4.jpg
LOCATION:2024\, Marvel Arena\, Cedar Creek\, 2024\, Queensland\, Australia
X-APPLE-STRUCTURED-LOCATION;VALUE=URI;X-ADDRESS=Marvel Arena\, Cedar Creek\
 , 2024\, Queensland\, Australia;X-APPLE-RADIUS=100;X-TITLE=2024:geo:0,0
END:VEVENT
END:VCALENDAR