BEGIN:VCALENDAR
VERSION:2.0
PRODID:-//wp-events-plugin.com//7.1.7//EN
BEGIN:VEVENT
UID:4@mjrossmusic.com
DTSTART:20240418T184500Z
DTEND:20240418T234500Z
DTSTAMP:20230513T183107Z
URL:https://mjrossmusic.com/events/to-be-announced/
SUMMARY:To Be Announced
DESCRIPTION:
ATTACH;FMTTYPE=image/jpeg:https://mjrossmusic.com/wp-content/uploads/2023/
 03/con6.jpg
CATEGORIES:Local Events
LOCATION:2024\, Gladmer Park\, 2024\, Saskatchewan\, Canada
X-APPLE-STRUCTURED-LOCATION;VALUE=URI;X-ADDRESS=Gladmer Park\, 2024\, Saska
 tchewan\, Canada;X-APPLE-RADIUS=100;X-TITLE=2024:geo:0,0
END:VEVENT
END:VCALENDAR